BEGIN:VCALENDAR
VERSION:2.0
PRODID:-//Tukios.com/
BEGIN:VEVENT
UID:95259ef3-2c8b-40ab-bde4-c3e67bdf39ee@www.mountainvalleyfuneralhome.com
DTSTAMP:20260422T212402Z
DTSTART:20260423T160000Z
DTEND:20260423T170000Z
SUMMARY:Funeral Service
DESCRIPTION:
URL:https://www.mountainvalleyfuneralhome.com/obituaries/virginia-blackwell
LOCATION:Burleson Church of Christ     
GEO:0;0
END:VEVENT
END:VCALENDAR