BEGIN:VCALENDAR
VERSION:2.0
PRODID:-//Tukios.com/
BEGIN:VEVENT
UID:4224e25d-4e12-4aa1-8ac3-6dbc437c64ea@www.mountainvalleyfuneralhome.com
DTSTAMP:20260422T211508Z
DTSTART:20260423T170000Z
DTEND:20260423T180000Z
SUMMARY:Interment
DESCRIPTION:
URL:https://www.mountainvalleyfuneralhome.com/obituaries/virginia-blackwell
LOCATION:Burleson Memorial Park 490 Memorial Plaza  Burleson TX 76028
GEO:32.5379761;-97.3081197
END:VEVENT
END:VCALENDAR